BEGIN:VCALENDAR
VERSION:2.0
PRODID:-//Allitera Verlag - ECPv6.15.18//NONSGML v1.0//EN
CALSCALE:GREGORIAN
METHOD:PUBLISH
X-ORIGINAL-URL:https://allitera-verlag.de
X-WR-CALDESC:Veranstaltungen für Allitera Verlag
REFRESH-INTERVAL;VALUE=DURATION:PT1H
X-Robots-Tag:noindex
X-PUBLISHED-TTL:PT1H
BEGIN:VTIMEZONE
TZID:Europe/Berlin
BEGIN:DAYLIGHT
TZOFFSETFROM:+0100
TZOFFSETTO:+0200
TZNAME:CEST
DTSTART:20230326T010000
END:DAYLIGHT
BEGIN:STANDARD
TZOFFSETFROM:+0200
TZOFFSETTO:+0100
TZNAME:CET
DTSTART:20231029T010000
END:STANDARD
BEGIN:DAYLIGHT
TZOFFSETFROM:+0100
TZOFFSETTO:+0200
TZNAME:CEST
DTSTART:20240331T010000
END:DAYLIGHT
BEGIN:STANDARD
TZOFFSETFROM:+0200
TZOFFSETTO:+0100
TZNAME:CET
DTSTART:20241027T010000
END:STANDARD
BEGIN:DAYLIGHT
TZOFFSETFROM:+0100
TZOFFSETTO:+0200
TZNAME:CEST
DTSTART:20250330T010000
END:DAYLIGHT
BEGIN:STANDARD
TZOFFSETFROM:+0200
TZOFFSETTO:+0100
TZNAME:CET
DTSTART:20251026T010000
END:STANDARD
END:VTIMEZONE
BEGIN:VEVENT
DTSTART;TZID=Europe/Berlin:20240425T000000
DTEND;TZID=Europe/Berlin:20240917T235959
DTSTAMP:20260421T100152
CREATED:20240425T132213Z
LAST-MODIFIED:20240425T132946Z
UID:18740-1714003200-1726617599@allitera-verlag.de
SUMMARY:Sonderausstellung »Die vergessenen Rosinen«. Geschichten mit Witz und Liebe von e.o.plauen zusammengestellt von Steffen Haas
DESCRIPTION:Wer kennt sie nicht\, die Bildergeschichten von e.o. plauen?Vater und Sohn\, eine unerschütterliche Komplizenschaft. Der freche Kleine mit schwarzem Schopf und der scheinbar strenge\, sehr liebevolle Vater\, ein Kindskopf mit einer Kinderseele. Vater und Sohn kennt man\, den Autor oft nicht mehr.  \n\n\n\nWas ist das eigentlich für ein seltsamer Name e.o. plauen?Erich Ohser gab sich diesen Künstlernamen\, weil sein bürgerlicher Name für die Nationalsozialisten verbrannt war. Unter dem Pseudonym e.o. plauen konnte er wieder veröffentlichen. Am Ende bezahlte er aber doch für seine aufrechte Haltung mit dem Leben.In dieser Ausstellung näher sich der Künstler Steffen Haas über das ausgewählte Werk Erich Ohser mit dem Blick des Zeichners. In Auswahl und Themensetzung zeigt er das gleiche Fingerspitzengefühl wie Ohser für seine Bildergeschichten. \n\n\n\nIn der Edition Valentin-Karlstadt-Musäum im Allitera Verlag erscheint das Begleitbuch »Die vergessenen Rosinen«. \n\n\n\nSteffen Haas kommt außerdem Donnerstag\, den 16. Mai um 19:00 Uhr mit seiner Moseshow ins Turmstüberl. \n\n\n\nWo: Valentin-Karlstadt-Musäum\, Tal 50\, 80331 München
URL:https://allitera-verlag.de/veranstaltung/sonderausstellung-die-vergessenen-rosinen-geschichten-mit-witz-und-liebe-von-e-o-plauen-zusammengestellt-von-steffen-haas/
ATTACH;FMTTYPE=image/jpeg:https://allitera-verlag.de/wp-content/uploads/2024/03/Haas-Die-vergessenen-Rosinen-Mockup-gross.jpg
END:VEVENT
BEGIN:VEVENT
DTSTART;TZID=Europe/Berlin:20240518T100000
DTEND;TZID=Europe/Berlin:20240812T170000
DTSTAMP:20260421T100152
CREATED:20240516T134632Z
LAST-MODIFIED:20240516T140229Z
UID:18866-1716026400-1723482000@allitera-verlag.de
SUMMARY:Ausstellung und Eröffnungsvortrag zum 200. Todestag von Eugène de Beauharnais
DESCRIPTION:Anlässlich des 200. Todestages von Eugène de Beauharnais kommt die Wanderausstellung »Ein freier Geist\, im Wandel treu« an den Tegernsee. \n\n\n\nDer Veranstalter ist das Museum Tergensee Tal. Erfahren Sie\, was Eugène de Beauharnais an den Tegernsee verschlagen hat. \n\n\n\nDie Wanderausstellung ist ergänzt um Stücke aus dem Museumsbestand sowie Leihgaben aus Privatbesitz. Erweiternd dazu sind die Bücher »Napoleons Erben. Die Herzöge von Leuchtenberg« und »Majestätisch kuren. Bayerns Hofbäder« vom Allitera Verlag zu finden. \n\n\n\nVeranstaltungsort: Museum Tegernseer Tal Seestraße 17 83684 Tegernsee \n\n\n\nÖffnungszeiten:Dienstag bis Samstag\, 10–13 Uhr und 13–16 UhrFührungen im Museum finden jeweils am Donnerstag\, um 11 Uhr statt oder auch jederzeit auf Anfrage\, Tel: 08022 4682 \n\n\n\n \n\n\n\nDer Eröffnungsvortrag von Dr. Bernhard Graf findet am Freitag\, den 17. Mai\, um 19:00 Uhr statt.
URL:https://allitera-verlag.de/veranstaltung/ausstellung-und-eroeffnungsvortrag-zum-200-todestag-von-eugene-de-beauharnais/
ATTACH;FMTTYPE=image/jpeg:https://allitera-verlag.de/wp-content/uploads/2021/05/graf-bernhard-napoleons-erben.jpg
ORGANIZER;CN="Museum Tegernseer Tal":MAILTO:info@museumtegernseertal.de
END:VEVENT
END:VCALENDAR